BEGIN:VCALENDAR
VERSION:2.0
PRODID:-//Peel Community Care - ECPv4.1.3//NONSGML v1.0//EN
CALSCALE:GREGORIAN
METHOD:PUBLISH
X-WR-CALNAME:Peel Community Care
X-ORIGINAL-URL:http://peelcommunitycare.org.au
X-WR-CALDESC:Events for Peel Community Care
BEGIN:VEVENT
DTSTART;VALUE=DATE:20170531
DTEND;VALUE=DATE:20170531
DTSTAMP:20190227T110022
CREATED:20170502
LAST-MODIFIED:20170502
UID:489-1496188800-1496275199@peelcommunitycare.org.au
SUMMARY:Indonesian Lunch
DESCRIPTION:\n \tWarung Ade Indonesian Restaurant\n \tplease bring lunch money\n
URL:http://peelcommunitycare.org.au/event/489/
ATTACH;FMTTYPE=image/jpeg:http://peelcommunitycare.org.au/wp-content/uploads/2017/05/warung-ade-indonesian.jpg
END:VEVENT
END:VCALENDAR