BEGIN:VCALENDAR
VERSION:2.0
PRODID:-//Peel Community Care - ECPv4.1.3//NONSGML v1.0//EN
CALSCALE:GREGORIAN
METHOD:PUBLISH
X-WR-CALNAME:Peel Community Care
X-ORIGINAL-URL:http://peelcommunitycare.org.au
X-WR-CALDESC:Events for Peel Community Care
BEGIN:VEVENT
DTSTART;VALUE=DATE:20171101
DTEND;VALUE=DATE:20171101
DTSTAMP:20190227T110034
CREATED:20171025
LAST-MODIFIED:20171025
UID:510-1509494400-1509580799@peelcommunitycare.org.au
SUMMARY:Bentley Pines Restaurant
DESCRIPTION:\n \tEnjoy a lovely lunch at the Bentley Pines training restaurant -\n\n\n \tPlease remember money for the cost of lunch.\n\n
URL:http://peelcommunitycare.org.au/event/bentley-pines-restaurant/
CATEGORIES:Outing
ATTACH;FMTTYPE=image/jpeg:http://peelcommunitycare.org.au/wp-content/uploads/2017/10/Bentley-Pines.jpg
END:VEVENT
END:VCALENDAR