BEGIN:VCALENDAR
VERSION:2.0
PRODID:-//Peel Community Care - ECPv6.10.3//NONSGML v1.0//EN
CALSCALE:GREGORIAN
METHOD:PUBLISH
X-WR-CALNAME:Peel Community Care
X-ORIGINAL-URL:https://peelcommunitycare.org.au
X-WR-CALDESC:Events for Peel Community Care
REFRESH-INTERVAL;VALUE=DURATION:PT1H
X-Robots-Tag:noindex
X-PUBLISHED-TTL:PT1H
BEGIN:VTIMEZONE
TZID:Asia/Shanghai
BEGIN:STANDARD
TZOFFSETFROM:+0800
TZOFFSETTO:+0800
TZNAME:CST
DTSTART:20170101T000000
END:STANDARD
END:VTIMEZONE
BEGIN:VEVENT
DTSTART;VALUE=DATE:20170523
DTEND;VALUE=DATE:20170524
DTSTAMP:20260425T014152
CREATED:20170502T044436Z
LAST-MODIFIED:20170502T050441Z
UID:477-1495497600-1495583999@peelcommunitycare.org.au
SUMMARY:Diabetic Information Day
DESCRIPTION:FREE check-up\nLasagne & Poached pear with Ice Cream
URL:https://peelcommunitycare.org.au/event/diabetic-information-day/
ATTACH;FMTTYPE=image/jpeg:https://peelcommunitycare.org.au/wp-content/uploads/2017/05/diabetic-Diabetes.jpg
END:VEVENT
END:VCALENDAR