BEGIN:VCALENDAR
VERSION:2.0
PRODID:-//Peel Community Care - ECPv4.1.3//NONSGML v1.0//EN
CALSCALE:GREGORIAN
METHOD:PUBLISH
X-WR-CALNAME:Peel Community Care
X-ORIGINAL-URL:http://peelcommunitycare.org.au
X-WR-CALDESC:Events for Peel Community Care
BEGIN:VEVENT
DTSTART;VALUE=DATE:20170529
DTEND;VALUE=DATE:20170529
DTSTAMP:20190227T110642
CREATED:20170502
LAST-MODIFIED:20170502
UID:485-1496016000-1496102399@peelcommunitycare.org.au
SUMMARY:Emprise Mobility Warehouse & lunch
DESCRIPTION:Leaders in mobility equipment\, daily living aids and stairlifts in Perth and throughout Western Australia\, with solutions to assist people facing reduced mobility arising from age\, illness or disability. Our products enable those suffering mobility challenges to enjoy more everyday living in every day.\n\n \tplease bring lunch money\n
URL:http://peelcommunitycare.org.au/event/emprise-mobility-warehouse-lunch/
ATTACH;FMTTYPE=image/jpeg:http://peelcommunitycare.org.au/wp-content/uploads/2017/05/EMprise.jpg
END:VEVENT
END:VCALENDAR