BEGIN:VCALENDAR
VERSION:2.0
PRODID:-//Peel Community Care - ECPv6.10.3//NONSGML v1.0//EN
CALSCALE:GREGORIAN
METHOD:PUBLISH
X-WR-CALNAME:Peel Community Care
X-ORIGINAL-URL:https://peelcommunitycare.org.au
X-WR-CALDESC:Events for Peel Community Care
REFRESH-INTERVAL;VALUE=DURATION:PT1H
X-Robots-Tag:noindex
X-PUBLISHED-TTL:PT1H
BEGIN:VTIMEZONE
TZID:Asia/Shanghai
BEGIN:STANDARD
TZOFFSETFROM:+0800
TZOFFSETTO:+0800
TZNAME:CST
DTSTART:20170101T000000
END:STANDARD
END:VTIMEZONE
BEGIN:VEVENT
DTSTART;VALUE=DATE:20170509
DTEND;VALUE=DATE:20170510
DTSTAMP:20260425T010813
CREATED:20170502T042350Z
LAST-MODIFIED:20170502T050637Z
UID:462-1494288000-1494374399@peelcommunitycare.org.au
SUMMARY:Hairdresser - Social Club
DESCRIPTION:Cut & Trim (not included in fee) BOOKINGS ESSENTIAL\nRoast beef & pineapple crisp
URL:https://peelcommunitycare.org.au/event/hairdresser-social-club/
END:VEVENT
END:VCALENDAR