BEGIN:VCALENDAR
VERSION:2.0
PRODID:-//Peel Community Care - ECPv6.10.3//NONSGML v1.0//EN
CALSCALE:GREGORIAN
METHOD:PUBLISH
X-WR-CALNAME:Peel Community Care
X-ORIGINAL-URL:https://peelcommunitycare.org.au
X-WR-CALDESC:Events for Peel Community Care
REFRESH-INTERVAL;VALUE=DURATION:PT1H
X-Robots-Tag:noindex
X-PUBLISHED-TTL:PT1H
BEGIN:VTIMEZONE
TZID:Asia/Shanghai
BEGIN:STANDARD
TZOFFSETFROM:+0800
TZOFFSETTO:+0800
TZNAME:CST
DTSTART:20170101T000000
END:STANDARD
END:VTIMEZONE
BEGIN:VEVENT
DTSTART;VALUE=DATE:20170522
DTEND;VALUE=DATE:20170523
DTSTAMP:20260425T011221
CREATED:20170502T044900Z
LAST-MODIFIED:20170502T050450Z
UID:479-1495411200-1495497599@peelcommunitycare.org.au
SUMMARY:Kings Park & Lunch
DESCRIPTION:Restaraunt in Kings Park\, plus time to explore\nplease bring lunch money
URL:https://peelcommunitycare.org.au/event/kings-park-lunch/
ATTACH;FMTTYPE=image/jpeg:https://peelcommunitycare.org.au/wp-content/uploads/2017/05/kings-park.jpg
END:VEVENT
END:VCALENDAR