BEGIN:VCALENDAR
VERSION:2.0
PRODID:-//Peel Community Care - ECPv6.10.3//NONSGML v1.0//EN
CALSCALE:GREGORIAN
METHOD:PUBLISH
X-WR-CALNAME:Peel Community Care
X-ORIGINAL-URL:https://peelcommunitycare.org.au
X-WR-CALDESC:Events for Peel Community Care
REFRESH-INTERVAL;VALUE=DURATION:PT1H
X-Robots-Tag:noindex
X-PUBLISHED-TTL:PT1H
BEGIN:VTIMEZONE
TZID:Asia/Shanghai
BEGIN:STANDARD
TZOFFSETFROM:+0800
TZOFFSETTO:+0800
TZNAME:CST
DTSTART:20170101T000000
END:STANDARD
END:VTIMEZONE
BEGIN:VEVENT
DTSTART;VALUE=DATE:20170512
DTEND;VALUE=DATE:20170513
DTSTAMP:20260425T014623
CREATED:20170502T041933Z
LAST-MODIFIED:20170502T050606Z
UID:458-1494547200-1494633599@peelcommunitycare.org.au
SUMMARY:Floejoes as normal
DESCRIPTION:
URL:https://peelcommunitycare.org.au/event/knitting-club-floejoes-as-normal-2/
END:VEVENT
END:VCALENDAR