BEGIN:VCALENDAR
VERSION:2.0
PRODID:-//Peel Community Care - ECPv6.10.3//NONSGML v1.0//EN
CALSCALE:GREGORIAN
METHOD:PUBLISH
X-WR-CALNAME:Peel Community Care
X-ORIGINAL-URL:https://peelcommunitycare.org.au
X-WR-CALDESC:Events for Peel Community Care
REFRESH-INTERVAL;VALUE=DURATION:PT1H
X-Robots-Tag:noindex
X-PUBLISHED-TTL:PT1H
BEGIN:VTIMEZONE
TZID:Asia/Shanghai
BEGIN:STANDARD
TZOFFSETFROM:+0800
TZOFFSETTO:+0800
TZNAME:CST
DTSTART:20170101T000000
END:STANDARD
END:VTIMEZONE
BEGIN:VEVENT
DTSTART;VALUE=DATE:20171120
DTEND;VALUE=DATE:20171121
DTSTAMP:20260425T010738
CREATED:20171025T052938Z
LAST-MODIFIED:20171025T054417Z
UID:529-1511136000-1511222399@peelcommunitycare.org.au
SUMMARY:Mandurah Movie Day + Lunch at Pelicans
DESCRIPTION:Enjoy a day out with a movie at Mandurah Reading Cinema followed by lunch at Pelicans Cafe –\n\n\nMovie included in price –\n\n\nPlease remember money for the cost of lunch.
URL:https://peelcommunitycare.org.au/event/mandurah-movie-day-lunch-at-pelicans/
CATEGORIES:Outing
ATTACH;FMTTYPE=image/jpeg:https://peelcommunitycare.org.au/wp-content/uploads/2017/05/Movie_night.jpg
END:VEVENT
END:VCALENDAR