BEGIN:VCALENDAR
VERSION:2.0
PRODID:-//Peel Community Care - ECPv4.1.3//NONSGML v1.0//EN
CALSCALE:GREGORIAN
METHOD:PUBLISH
X-WR-CALNAME:Peel Community Care
X-ORIGINAL-URL:http://peelcommunitycare.org.au
X-WR-CALDESC:Events for Peel Community Care
BEGIN:VEVENT
DTSTART;VALUE=DATE:20170508
DTEND;VALUE=DATE:20170508
DTSTAMP:20190227T110808
CREATED:20170108
LAST-MODIFIED:20170502
UID:460-1494201600-1494287999@peelcommunitycare.org.au
SUMMARY:Parkerville Tavern
DESCRIPTION:\n \tplease bring money for lunch\n
URL:http://peelcommunitycare.org.au/event/parkerville-tavern/
ATTACH;FMTTYPE=image/jpeg:http://peelcommunitycare.org.au/wp-content/uploads/2017/05/parkerville-tavern.jpg
END:VEVENT
END:VCALENDAR