BEGIN:VCALENDAR
VERSION:2.0
PRODID:-//Peel Community Care - ECPv6.10.3//NONSGML v1.0//EN
CALSCALE:GREGORIAN
METHOD:PUBLISH
X-WR-CALNAME:Peel Community Care
X-ORIGINAL-URL:https://peelcommunitycare.org.au
X-WR-CALDESC:Events for Peel Community Care
REFRESH-INTERVAL;VALUE=DURATION:PT1H
X-Robots-Tag:noindex
X-PUBLISHED-TTL:PT1H
BEGIN:VTIMEZONE
TZID:Asia/Shanghai
BEGIN:STANDARD
TZOFFSETFROM:+0800
TZOFFSETTO:+0800
TZNAME:CST
DTSTART:20170101T000000
END:STANDARD
END:VTIMEZONE
BEGIN:VEVENT
DTSTART;VALUE=DATE:20170518
DTEND;VALUE=DATE:20170519
DTSTAMP:20260425T014351
CREATED:20170502T043901Z
LAST-MODIFIED:20170502T050523Z
UID:474-1495065600-1495151999@peelcommunitycare.org.au
SUMMARY:Social Club
DESCRIPTION:Bingo or trip to the Spud Shed\nSatay Chicken & Strawberry Savoiardi
URL:https://peelcommunitycare.org.au/event/social-club-3/
ATTACH;FMTTYPE=image/jpeg:https://peelcommunitycare.org.au/wp-content/uploads/2017/05/bingo.jpg
END:VEVENT
END:VCALENDAR