BEGIN:VCALENDAR
VERSION:2.0
PRODID:-//Peel Community Care - ECPv4.1.3//NONSGML v1.0//EN
CALSCALE:GREGORIAN
METHOD:PUBLISH
X-WR-CALNAME:Peel Community Care
X-ORIGINAL-URL:http://peelcommunitycare.org.au
X-WR-CALDESC:Events for Peel Community Care
BEGIN:VEVENT
DTSTART;VALUE=DATE:20170530
DTEND;VALUE=DATE:20170530
DTSTAMP:20190227T110645
CREATED:20170502
LAST-MODIFIED:20170502
UID:486-1496102400-1496188799@peelcommunitycare.org.au
SUMMARY:Tupperware Party
DESCRIPTION:\n \tproduct demos\n \tLamb rissoles & Lemon crepes\n
URL:http://peelcommunitycare.org.au/event/tupperware-party/
ATTACH;FMTTYPE=image/jpeg:http://peelcommunitycare.org.au/wp-content/uploads/2017/05/tupperware.jpg
END:VEVENT
END:VCALENDAR